BEGIN:VCALENDAR
VERSION:2.0
PRODID:-//wp-events-plugin.com//5.99912//EN
TZID:Europe/Berlin
X-WR-TIMEZONE:Europe/Berlin
BEGIN:VEVENT
UID:0-640@muehlacker.albverein.eu
DTSTART;TZID=Europe/Berlin;VALUE=DATE:20260725
DTEND;TZID=Europe/Berlin;VALUE=DATE:20260729
DTSTAMP:20260104T115135Z
URL:https://muehlacker.albverein.eu/events/4-tages-tour-taubertal/
SUMMARY:4 Tages Tour Taubertal
DESCRIPTION:Liebe Wanderfreunde\,\n2026 findet wieder eine 4-tägige Wander
 ausfahrt statt.\nHier ist die Grobplanung:\n4-tägige Wanderausfahrt Taube
 r Tal\nSamstag 25.07.2026 bis Dienstag 28.07.2026\nPlanungsstand vom 01.01
 .2026\nFestes Quartier in Bad Mergentheim\nIch habe 2 Ferienwohnungen mit 
 12 Betten in 6 Zimmern reserviert.\n2x Einzelzimmer\, 2x 2 Betten\, 2x 3 B
 etten\nName der Unterkunft: A&amp\;D Monteurzimmer Ferienwohnung\nKosten b
 ei 7 Teilnehmern 765.00 €\, jede weitere Person 15\,00 Euro.\nFrühstüc
 k machen wir uns selbst.\n25.07.2026\nZugfahrt Mühlacker – Bad Mergenth
 eim\nGepäck-Abgabe\nWanderung mit Rucksackvesper zirka 10-15 Kilometer\nG
 rillabend im Garten\n26. und 27.07.2026\nWanderung jeweils zirka 15-20 Kil
 ometer\n28.07.2026\nWanderung zirka 10-15 Kilometer\nRückfahrt mit dem Zu
 g\nAnmeldung und weitere Infos bei Harald Schulzek\nVogt-Greber-Weg 2\n754
 43 Ötisheim\nTel.: 0177/2115987\nMail savmuehlacker@gmx.de
END:VEVENT
BEGIN:VTIMEZONE
TZID:Europe/Berlin
X-LIC-LOCATION:Europe/Berlin
BEGIN:DAYLIGHT
DTSTART:20260329T030000
TZOFFSETFROM:+0100
TZOFFSETTO:+0200
TZNAME:CEST
END:DAYLIGHT
END:VTIMEZONE
END:VCALENDAR