BEGIN:VCALENDAR
VERSION:2.0
PRODID:-//wp-events-plugin.com//5.99912//EN
TZID:Europe/Berlin
X-WR-TIMEZONE:Europe/Berlin
BEGIN:VEVENT
UID:0-626@muehlacker.albverein.eu
DTSTART;TZID=Europe/Berlin:20260425T170000
DTEND;TZID=Europe/Berlin:20260425T170000
DTSTAMP:20260414T162600Z
URL:https://muehlacker.albverein.eu/events/tag-des-baumes-12/
SUMMARY:Tag des Baumes
DESCRIPTION:Einladung zum "Tag des Baumes" am Samstag\, dem 25. April 2026\
 nin Mühlacker.\nDieses Jahr wird eine Zitterpappel beim Erlenbach gepflan
 zt.\nDer Pflanzort befindet sich im Gewann "Eurich-Belzacker"\, Zugang üb
 er die\nGoethestraße\, Nähe DRK\, Beginn der Veranstaltung mit anschlie
 ßendem Umtrunk\nist um 17 Uhr. \n\nGäste herzlich willkommen!
END:VEVENT
BEGIN:VTIMEZONE
TZID:Europe/Berlin
X-LIC-LOCATION:Europe/Berlin
BEGIN:DAYLIGHT
DTSTART:20260329T030000
TZOFFSETFROM:+0100
TZOFFSETTO:+0200
TZNAME:CEST
END:DAYLIGHT
END:VTIMEZONE
END:VCALENDAR