BEGIN:VCALENDAR
VERSION:2.0
PRODID:-//wp-events-plugin.com//5.99912//EN
TZID:Europe/Berlin
X-WR-TIMEZONE:Europe/Berlin
BEGIN:VEVENT
UID:0-627@muehlacker.albverein.eu
DTSTART;TZID=Europe/Berlin:20260426T084500
DTEND;TZID=Europe/Berlin:20260426T084500
DTSTAMP:20260412T121801Z
URL:https://muehlacker.albverein.eu/events/tages-wanderung-stuttgart-bad-c
 annstatt/
SUMMARY:Tages-Wanderung Stuttgart – Bad Cannstatt
DESCRIPTION:Einladung zur Stuttgart Wanderung am Sonntag 26.4.26. Treffpunk
 t Bahnhof um 8:45 Uhr.\n\nVom Pragsattel aus geht's auf Stäffelen und Pan
 oramawegen mit Weitsichten zum Burgholzhof. Bei Schleuse Hofen über den N
 eckar ins Naherholungsgebiet Max-Eyth-See. Über den Zuckerberg-Höhenweg 
 nach Bad Cannstatt. Strecke ca. 15 km\, 300 Hm. Meist Asphalt.\nKamera und
  Rucksackvesper unterwegs\; Schlusspause am Schlossplatz. Rückfahrt mit d
 em nächsten Zug.\n\nGäste sind willkommen.\n\nWanderführer Heinz Maier\
 , Tel.: 0152 0745 9403.
LOCATION:Bahnhofsvorplatz Mühlacker\, Bahnhofstraße 119\, Mühlacker\, 75
 417\, Deutschland
GEO:48.95281;8.845820000000003
X-APPLE-STRUCTURED-LOCATION;VALUE=URI;X-ADDRESS=Bahnhofstraße 119\, Mühla
 cker\, 75417\, Deutschland;X-APPLE-RADIUS=100;X-TITLE=Bahnhofsvorplatz Mü
 hlacker:geo:48.95281,8.845820000000003
END:VEVENT
BEGIN:VTIMEZONE
TZID:Europe/Berlin
X-LIC-LOCATION:Europe/Berlin
BEGIN:DAYLIGHT
DTSTART:20260329T030000
TZOFFSETFROM:+0100
TZOFFSETTO:+0200
TZNAME:CEST
END:DAYLIGHT
END:VTIMEZONE
END:VCALENDAR